BEGIN:VCALENDAR
VERSION:2.0
PRODID:-//eventon.com NONSGML v1.0//EN
CALSCALE:GREGORIAN
METHOD:PUBLISH
BEGIN:VEVENT
UID:69e7502eb439e
DTSTAMP:20260421T102342Z
DTSTART:20250612T090000Z
DTEND:20250711T103000Z
LOCATION:
SUMMARY:Exposition itinérante "[Co]Habiter avec les arbres"
DESCRIPTION:Exposition itinérante "[Co]Habiter avec les arbres"\nhttps://w
 ww.caue44.com/events/exposition-cohabiter-avec-les-arbres/
URL:https://www.caue44.com/events/exposition-cohabiter-avec-les-arbres/
END:VEVENT
END:VCALENDAR