BEGIN:VCALENDAR
VERSION:2.0
PRODID:-//eventon.com NONSGML v1.0//EN
CALSCALE:GREGORIAN
METHOD:PUBLISH
BEGIN:VEVENT
UID:69e73a1ecfba5
DTSTAMP:20260421T084934Z
DTSTART:20190226T090000Z
DTEND:20190226T170000Z
LOCATION:Association des Maires de Loire-Atlantique 3\,  rue Roland Garros - 44700 ORVAULT
SUMMARY:Renouvellement urbain et revalorisation des centres-bourgs
DESCRIPTION:Renouvellement urbain et revalorisation des centres-bourgs\nhtt
 ps://www.caue44.com/events/renouvellement-urbain-et-revalorisation-des-cent
 res-bourgs/
URL:https://www.caue44.com/events/renouvellement-urbain-et-revalorisation-des-centres-bourgs/
END:VEVENT
END:VCALENDAR