BEGIN:VCALENDAR
VERSION:2.0
PRODID:-//eventon.com NONSGML v1.0//EN
CALSCALE:GREGORIAN
METHOD:PUBLISH
BEGIN:VEVENT
UID:69e739d1377be
DTSTAMP:20260421T084817Z
DTSTART:20220530
DTEND:20220531
LOCATION:Loire-Atlantique
SUMMARY:Les rencontres de l'Architecture et du Paysage 2022
DESCRIPTION:Les rencontres de l'Architecture et du Paysage 2022\nhttps://ww
 w.caue44.com/events/les-rencontres-de-larchitecture-et-du-paysage-2022-2/
URL:https://www.caue44.com/events/les-rencontres-de-larchitecture-et-du-paysage-2022-2/
END:VEVENT
END:VCALENDAR