BEGIN:VCALENDAR
VERSION:2.0
PRODID:-//eventon.com NONSGML v1.0//EN
CALSCALE:GREGORIAN
METHOD:PUBLISH
BEGIN:VEVENT
UID:69e73aab5d763
DTSTAMP:20260421T085155Z
DTSTART:20231116T173000Z
DTEND:20231116T190000Z
LOCATION:CAUE 44 2 boulevard de l’Estuaire CS 56215 44262 NANTES cedex 2
SUMMARY:RDV #22 : Cohabiter avec les arbres
DESCRIPTION:RDV #22 : Cohabiter avec les arbres\nhttps://www.caue44.com/eve
 nts/rdv-22-cohabiter-avec-les-arbres/
URL:https://www.caue44.com/events/rdv-22-cohabiter-avec-les-arbres/
END:VEVENT
END:VCALENDAR