BEGIN:VCALENDAR
VERSION:2.0
PRODID:-//eventon.com NONSGML v1.0//EN
CALSCALE:GREGORIAN
METHOD:PUBLISH
BEGIN:VEVENT
UID:69e89f2882888
DTSTAMP:20260422T101256Z
DTSTART:20240921T070000Z
DTEND:20240922T153000Z
LOCATION:
SUMMARY:Journées Européennes du Patrimoine
DESCRIPTION:Journées Européennes du Patrimoine\nhttps://www.caue44.com/ev
 ents/journees-du-patrimoine/
URL:https://www.caue44.com/events/journees-du-patrimoine/
END:VEVENT
END:VCALENDAR